BEGIN:VCALENDAR
VERSION:2.0
PRODID:-//Plant Success - ECPv6.15.20//NONSGML v1.0//EN
CALSCALE:GREGORIAN
METHOD:PUBLISH
X-WR-CALNAME:Plant Success
X-ORIGINAL-URL:https://www.plantsuccess.org
X-WR-CALDESC:Events for Plant Success
REFRESH-INTERVAL;VALUE=DURATION:PT1H
X-Robots-Tag:noindex
X-PUBLISHED-TTL:PT1H
BEGIN:VTIMEZONE
TZID:UTC
BEGIN:STANDARD
TZOFFSETFROM:+0000
TZOFFSETTO:+0000
TZNAME:UTC
DTSTART:20210101T000000
END:STANDARD
END:VTIMEZONE
BEGIN:VEVENT
DTSTART;TZID=UTC:20221129T160000
DTEND;TZID=UTC:20221129T170000
DTSTAMP:20260424T081132
CREATED:20221121T130150Z
LAST-MODIFIED:20221219T180946Z
UID:2891-1669737600-1669741200@www.plantsuccess.org
SUMMARY:Biocultural Rights\, Indigenous Peoples\, and Local Communities: Protecting Culture and the Environment
DESCRIPTION:This lecture will investigate the role of biocultural community protocols in safeguarding the biocultural rights of Indigenous and local communities. In so doing\, the lecture will analyse the nature and role of biocultural community protocols within the context of access to genetic resources and benefit sharing\, linking this to the rise of biocultural jurisprudence and the interlinkages between cultural diversity and biological diversity conservation. The lecture will also provide critical insights about biocultural community protocols\, raising questions including whether these protocols can be seen as political tools and representational strategies used by Indigenous peoples in their struggle for greater rights to their land\, territories and resources\, and for more political space. \nAbout People\, Plants and the Law Online Lecture Series\nThe People\, Plants\, and the Law lecture series explores the legal and lively entanglements of human and botanical worlds. \nToday people engage with and relate to plants in diverse and sometimes divergent ways. Seeds—and the plants that they produce—may be receptacles of memory\, sacred forms of sustenance\, or sites of resistance in struggles over food sovereignty. Simultaneously\, they may be repositories of gene sequences\, Indigenous knowledge\, bulk commodities\, or key components of economic development projects and food security programs. \nThis lecture series explores the special role of the law in shaping these different engagements\, whether in farmers’ fields\, scientific laboratories\, international markets\, or elsewhere.
URL:https://www.plantsuccess.org/event/biocultural-rights-indigenous-peoples-and-local-communities-protecting-culture-and-the-environment-2/
LOCATION:Zoom
CATEGORIES:People Plants and the Law
END:VEVENT
END:VCALENDAR