BEGIN:VCALENDAR
VERSION:2.0
PRODID:-//Plant Success - ECPv6.15.20//NONSGML v1.0//EN
CALSCALE:GREGORIAN
METHOD:PUBLISH
X-WR-CALNAME:Plant Success
X-ORIGINAL-URL:https://www.plantsuccess.org
X-WR-CALDESC:Events for Plant Success
REFRESH-INTERVAL;VALUE=DURATION:PT1H
X-Robots-Tag:noindex
X-PUBLISHED-TTL:PT1H
BEGIN:VTIMEZONE
TZID:Australia/Melbourne
BEGIN:STANDARD
TZOFFSETFROM:+1100
TZOFFSETTO:+1000
TZNAME:AEST
DTSTART:20210403T160000
END:STANDARD
BEGIN:DAYLIGHT
TZOFFSETFROM:+1000
TZOFFSETTO:+1100
TZNAME:AEDT
DTSTART:20211002T160000
END:DAYLIGHT
BEGIN:STANDARD
TZOFFSETFROM:+1100
TZOFFSETTO:+1000
TZNAME:AEST
DTSTART:20220402T160000
END:STANDARD
BEGIN:DAYLIGHT
TZOFFSETFROM:+1000
TZOFFSETTO:+1100
TZNAME:AEDT
DTSTART:20221001T160000
END:DAYLIGHT
BEGIN:STANDARD
TZOFFSETFROM:+1100
TZOFFSETTO:+1000
TZNAME:AEST
DTSTART:20230401T160000
END:STANDARD
BEGIN:DAYLIGHT
TZOFFSETFROM:+1000
TZOFFSETTO:+1100
TZNAME:AEDT
DTSTART:20230930T160000
END:DAYLIGHT
END:VTIMEZONE
BEGIN:VEVENT
DTSTART;TZID=Australia/Melbourne:20220222T090000
DTEND;TZID=Australia/Melbourne:20220222T100000
DTSTAMP:20260425T012605
CREATED:20220210T162536Z
LAST-MODIFIED:20230124T150639Z
UID:1984-1645520400-1645524000@www.plantsuccess.org
SUMMARY:Stand and Deliver: Biopiracy\, Law\, and the Balkanization of the Genescape
DESCRIPTION:For 40 years now the users and suppliers of agricultural biodiversity have traded charges of highway robbery. Seed companies demand that purchasers of their seed pay a royalty and respect the intellectual property rights they hold on the crop varieties they claim as their inventions. Peasants\, Indigenous peoples\, and biodiverse nations demand that they be compensated for access to the valuable genetic resources that they now realize they have been delivering free for the use of the seed companies. \nAs intellectual property and contract law have been extended globally to facilitate the profitability of the international seed trade\, so has international law been developed to forestall biopiracy and provide “benefit sharing” in return for “access” to genetic resources. Kloppenburg will describe the inadequacies of this balancing act\, and show how it has resulted in a deeply problematic “Balkanization” of the genescape that benefits no one. As an alternative\, he looks to “open source” legal arrangements – especially those with “copyleft” provisions – as a possible foundation for a more just and regenerative regime of the use and exchange of plant genetic resources. FREE THE SEED! \nAbout People\, Plants and the Law Online Lecture Series\nThe People\, Plants\, and the Law lecture series explores the legal and lively entanglements of human and botanical worlds. \nToday people engage with and relate to plants in diverse and sometimes divergent ways. Seeds—and the plants that they produce—may be receptacles of memory\, sacred forms of sustenance\, or sites of resistance in struggles over food sovereignty. Simultaneously\, they may be repositories of gene sequences\, Indigenous knowledge\, bulk commodities\, or key components of economic development projects and food security programs. \nThis lecture series explores the special role of the law in shaping these different engagements\, whether in farmers’ fields\, scientific laboratories\, international markets\, or elsewhere.
URL:https://www.plantsuccess.org/event/biopiracy-law-and-the-balkanization-of-the-genescape/
LOCATION:Zoom
CATEGORIES:People Plants and the Law
ATTACH;FMTTYPE=image/png:https://www.plantsuccess.org/wp-content/uploads/2022/02/lentils.png
ORGANIZER;CN="Plant Success":MAILTO:admin@plantsuccess.org
END:VEVENT
END:VCALENDAR